BEGIN:VCALENDAR
VERSION:2.0
PRODID:-//ChamberMaster//Event Calendar 2.0//EN
METHOD:PUBLISH
X-PUBLISHED-TTL:P3D
REFRESH-INTERVAL:P3D
CALSCALE:GREGORIAN
BEGIN:VEVENT
DTSTART:20260812T113000Z
DTEND:20260812T130000Z
X-MICROSOFT-CDO-ALLDAYEVENT:FALSE
SUMMARY:CABA Coffee at Freedom Fighters Financial
DESCRIPTION:Join host Bryan Turner for CABA's coffee networking when CABA members will engage in B2B networking with guests over snacks and coffee.  Guests are welcome to visit a CABA event twice before being asked to join.  Join us and learn why we say\, "CABA is the best business address in Tampa Bay."
X-ALT-DESC;FMTTYPE=text/html:<span style="font-size: 18px\; font-family: Arial\; white-space: pre-wrap\;">Join host Bryan Turner for CABA&#39\;s coffee networking </span><span style="font-size: 18px\; font-family: Arial\; white-space: pre-wrap\;">when CABA members will engage in B2B networking with </span><span style="font-size: 18px\; font-family: Arial\; white-space: pre-wrap\;">guests over snacks and coffee.&nbsp\; Guests are welcome to visit a CABA event twice before being asked to join.&nbsp\; Join us </span><span style="font-size: 18px\; font-family: Arial\; white-space: pre-wrap\;">and learn why we say\, <em>&quot\;CABA is the best business address in Tampa Bay.&quot\;</em></span><br />\n&nbsp\;
LOCATION:Freedom Fighters Financial\, LLC 10008 N Dale Mabry Hwy. Tampa\, FL 33618
UID:e.9368.790229
SEQUENCE:3
DTSTAMP:20260420T040406Z
URL:http://usecabafl.memberzone.com/events/details/caba-coffee-at-freedom-fighters-financial-790229
END:VEVENT

END:VCALENDAR
