BEGIN:VCALENDAR
VERSION:2.0
PRODID:-//ChamberMaster//Event Calendar 2.0//EN
METHOD:PUBLISH
X-PUBLISHED-TTL:P3D
REFRESH-INTERVAL:P3D
CALSCALE:GREGORIAN
BEGIN:VEVENT
DTSTART:20240410T113000Z
DTEND:20240410T130000Z
X-MICROSOFT-CDO-ALLDAYEVENT:FALSE
SUMMARY:CABA Coffee at Florida Executive Realty
DESCRIPTION:Join host\, Dylan Libadisos at CABA's coffee networking! CABA members will engage in B2B networking with guests over snacks and coffee.  Guests are welcome to visit a CABA event twice before being asked to join.  Join us and learn why we say\, "CABA is the best business address in Tampa Bay."\n\n\n\nThank you to our co-hosts Jenny McMurray of Floor Coverings Intn'l\, Karin Humphrey of Whitco Insurance\, Tom Menendez of Cadence Bank.
X-ALT-DESC;FMTTYPE=text/html:<span style="box-sizing: border-box\; color: rgb(51\, 51\, 51)\; white-space-collapse: preserve\; background-color: rgb(255\, 255\, 255)\; font-size: 18px\; font-family: Arial\;">Join host\, Dylan Libadisos at CABA&#39\;s coffee networking! </span><span style="box-sizing: border-box\; outline: 0px\; color: rgb(51\, 51\, 51)\; white-space-collapse: preserve\; background-color: rgb(255\, 255\, 255)\; font-size: 18px\; font-family: Arial\;">CABA members will engage in B2B networking with </span><span style="box-sizing: border-box\; color: rgb(51\, 51\, 51)\; white-space-collapse: preserve\; background-color: rgb(255\, 255\, 255)\; font-size: 18px\; font-family: Arial\;">guests over snacks and coffee.&nbsp\; Guests are welcome to visit a CABA event twice before being asked to join.&nbsp\; Join us </span><font face="Arial" style="box-sizing: border-box\; color: rgb(51\, 51\, 51)\; font-size: 16px\; background-color: rgb(255\, 255\, 255)\;"><span style="box-sizing: border-box\; font-size: 18px\; white-space-collapse: preserve\;">and learn why we say\, </span></font><em style="box-sizing: border-box\; color: rgb(51\, 51\, 51)\; white-space-collapse: preserve\; background-color: rgb(255\, 255\, 255)\; font-family: Arial\; font-size: 18px\;">&quot\;CABA is the best business address in Tampa Bay.&quot\;</em><br />\n<br />\n<em style="box-sizing: border-box\; color: rgb(51\, 51\, 51)\; white-space-collapse: preserve\; background-color: rgb(255\, 255\, 255)\; font-family: Arial\; font-size: 18px\;">Thank you to our co-hosts Jenny McMurray of Floor Coverings Intn&#39\;l\, Karin Humphrey of Whitco Insurance\, Tom Menendez of Cadence Bank.</em>
LOCATION:Florida Executive Realty 14007 N. Dale Mabry Hwy. Tampa\, FL 33618
UID:e.9368.789972
SEQUENCE:3
DTSTAMP:20260421T224332Z
URL:http://usecabafl.memberzone.com/events/details/caba-coffee-at-florida-executive-realty-789972
END:VEVENT

END:VCALENDAR
