BEGIN:VCALENDAR
VERSION:2.0
PRODID:-//ChamberMaster//Event Calendar 2.0//EN
METHOD:PUBLISH
X-PUBLISHED-TTL:P3D
REFRESH-INTERVAL:P3D
CALSCALE:GREGORIAN
BEGIN:VEVENT
DTSTART:20250716T113000Z
DTEND:20250716T130000Z
X-MICROSOFT-CDO-ALLDAYEVENT:FALSE
SUMMARY:CABA Coffee at Dignity Memoral (Blount & Curry)
DESCRIPTION:Join host\, Peter Flanagan for CABA's coffee networking when CABA members will engage in B2B networking with guests over snacks and coffee.  Guests are welcome to visit a CABA event twice before being asked to join.  Join us and learn why we say\, "CABA is the best business address in Tampa Bay."\n\nThank you to our cohosts Nicole Villanueva (United Veterans Assistance)\, Joy Pierson (Discovery Home Care)\, Ted Bociek\, (Carrollwood Roofing)\, and Jonathan Simkins (Insect IQ).
X-ALT-DESC;FMTTYPE=text/html:<span style="font-size: 18px\; font-family: Arial\; white-space: pre-wrap\;">Join host\, Peter Flanagan for CABA&#39\;s coffee networking </span><span style="font-size: 18px\; font-family: Arial\; white-space: pre-wrap\;">when CABA members will engage in B2B networking with </span><span style="font-size: 18px\; font-family: Arial\; white-space: pre-wrap\;">guests over snacks and coffee.&nbsp\; Guests are welcome to visit a CABA event twice before being asked to join.&nbsp\; Join us </span><span style="font-size: 18px\; font-family: Arial\; white-space: pre-wrap\;">and learn why we say\, <em>&quot\;CABA is the best business address in Tampa Bay.&quot\;</em><br />\nThank you to our cohosts Nicole Villanueva (United Veterans Assistance)\, Joy Pierson (Discovery Home Care)\, Ted Bociek\, (Carrollwood Roofing)\, and Jonathan Simkins (Insect IQ).</span>
LOCATION:Dignity Memorial (Blount & Curry) 3207 W. Bearss Ave. Tampa\, FL 33618
UID:e.9368.790175
SEQUENCE:3
DTSTAMP:20260420T160749Z
URL:http://usecabafl.memberzone.com/events/details/caba-coffee-at-dignity-memoral-blount-curry-790175
END:VEVENT

END:VCALENDAR
