BEGIN:VCALENDAR
VERSION:2.0
PRODID:-//ChamberMaster//Event Calendar 2.0//EN
METHOD:PUBLISH
X-PUBLISHED-TTL:P3D
REFRESH-INTERVAL:P3D
CALSCALE:GREGORIAN
BEGIN:VEVENT
DTSTART:20220209T123000Z
DTEND:20220209T140000Z
X-MICROSOFT-CDO-ALLDAYEVENT:FALSE
SUMMARY:CABA Coffee at College Hunks
DESCRIPTION:Start your morning with a FREE CABA Coffee networking from 7:30am - 9:00am. CABA members will engage in B2B networking with members and guests over snacks and coffee. \n\n\n\n\n\n***This is the MOVE location near Raymond James Stadium
X-ALT-DESC;FMTTYPE=text/html:<span style="font-size:18px\;"><span id="docs-internal-guid-ab0d7040-7fff-f9ca-3b8c-9a5fd6189235"><span style="font-family: Arial\; color: rgb(0\, 0\, 0)\; background-color: transparent\; font-variant-numeric: normal\; font-variant-east-asian: normal\; vertical-align: baseline\; white-space: pre-wrap\;">Start your morning with a FREE CABA Coffee networking from 7:30am - 9:00am. </span></span><span id="docs-internal-guid-e1d22bcc-7fff-d936-fa70-3c6f5a53490b"><span style="font-family: Arial\; color: rgb(0\, 0\, 0)\; background-color: transparent\; font-variant-numeric: normal\; font-variant-east-asian: normal\; vertical-align: baseline\; white-space: pre-wrap\;">CABA members will engage in B2B networking with members and guests over snacks and coffee. </span></span></span><br />\n<br />\n<br />\n***This is the MOVE location near Raymond James Stadium<br />\n&nbsp\;\n<div>&nbsp\;</div>\n
LOCATION:College Hunks 4756 North Dale Mabry Hwy Tampa\, Florida 33614
UID:e.9368.789476
SEQUENCE:3
DTSTAMP:20260424T054359Z
URL:http://usecabafl.memberzone.com/events/details/caba-coffee-at-college-hunks-789476
END:VEVENT

END:VCALENDAR
