BEGIN:VCALENDAR
VERSION:2.0
PRODID:-//ChamberMaster//Event Calendar 2.0//EN
METHOD:PUBLISH
X-PUBLISHED-TTL:P3D
REFRESH-INTERVAL:P3D
CALSCALE:GREGORIAN
BEGIN:VEVENT
DTSTART:20210922T113000Z
DTEND:20210922T130000Z
X-MICROSOFT-CDO-ALLDAYEVENT:FALSE
SUMMARY:CABA Coffee at Code Ninjas
DESCRIPTION:Don't miss the FREE CABA Coffee networking from 7:30am - 9:00am. CABA members will engage in B2B networking with members and guests on Wednesday.\n\n\n\nThank you to our Co-Host:\n\n\n\nLesa Marie's Tropical Treats
X-ALT-DESC;FMTTYPE=text/html:<p><span id="docs-internal-guid-1a8d6c47-7fff-a699-9b34-489b38512d9f" style="color: rgb(50\, 49\, 48)\; font-family: &quot\;Segoe UI&quot\;\, &quot\;Segoe UI Web (West European)&quot\;\, &quot\;Segoe UI&quot\;\, -apple-system\, BlinkMacSystemFont\, Roboto\, &quot\;Helvetica Neue&quot\;\, sans-serif\; font-size: 18px\;"><span style="color: rgb(0\, 0\, 0)\; background-color: transparent\; font-variant-numeric: normal\; font-variant-east-asian: normal\; vertical-align: baseline\; white-space: pre-wrap\;">Don&rsquo\;t miss the FREE CABA Coffee networking</span></span><span style="font-family: &quot\;Segoe UI&quot\;\, &quot\;Segoe UI Web (West European)&quot\;\, &quot\;Segoe UI&quot\;\, -apple-system\, BlinkMacSystemFont\, Roboto\, &quot\;Helvetica Neue&quot\;\, sans-serif\; font-size: 18px\; font-variant-numeric: normal\; font-variant-east-asian: normal\; background-color: transparent\; color: rgb(0\, 0\, 0)\; vertical-align: baseline\; white-space: pre-wrap\;"> from 7:30am - 9:00am. CABA members will engage in B2B networking with members and guests on </span><span style="color: rgb(50\, 49\, 48)\; font-family: &quot\;Segoe UI&quot\;\, &quot\;Segoe UI Web (West European)&quot\;\, &quot\;Segoe UI&quot\;\, -apple-system\, BlinkMacSystemFont\, Roboto\, &quot\;Helvetica Neue&quot\;\, sans-serif\; font-size: 18px\;">Wednesday.<br />\n<br />\nThank you to our Co-Host:</span><br />\n<br />\n<span style="color:#008000\;"><span style="font-family: &quot\;Segoe UI&quot\;\, &quot\;Segoe UI Web (West European)&quot\;\, &quot\;Segoe UI&quot\;\, -apple-system\, BlinkMacSystemFont\, Roboto\, &quot\;Helvetica Neue&quot\;\, sans-serif\; font-size: 18px\;"><span style="font-family:verdana\;"><em>Lesa Marie&#39\;s Tropical Treats</em></span></span></span></p>\n
LOCATION:Code Ninjas 14349 North Dale Mabry Tampa\, FL 33618
UID:e.9368.789358
SEQUENCE:3
DTSTAMP:20260424T155924Z
URL:http://usecabafl.memberzone.com/events/details/caba-coffee-at-code-ninjas-789358
END:VEVENT

END:VCALENDAR
