BEGIN:VCALENDAR
VERSION:2.0
PRODID:-//ChamberMaster//Event Calendar 2.0//EN
METHOD:PUBLISH
X-PUBLISHED-TTL:P3D
REFRESH-INTERVAL:P3D
CALSCALE:GREGORIAN
BEGIN:VEVENT
DTSTART:20240424T113000Z
DTEND:20240424T130000Z
X-MICROSOFT-CDO-ALLDAYEVENT:FALSE
SUMMARY:CABA Coffee at Chamberlain High School Legacy Alliance (Outback Restaurant onsite)
DESCRIPTION:Join host\, Terry Sisco at CABA's coffee networking! CABA members will engage in B2B networking with guests over snacks and coffee.  Join us and learn why we say\, "CABA is the best business address in Tampa Bay."\n\n\n\nThank you to our cohosts Cindy Stuart with Hillsborough County Clerk of Court\, Tammy and Brad Cochran of Chicken Salad Chick\, and Bethany Brown\, ARNP MPH with The Aesthetics Lounge and Spa Tampa.
X-ALT-DESC;FMTTYPE=text/html:<span style="box-sizing: border-box\; color: rgb(51\, 51\, 51)\; white-space-collapse: preserve\; background-color: rgb(255\, 255\, 255)\; font-size: 18px\; font-family: Arial\;">Join host\, Terry Sisco at CABA&#39\;s coffee networking! </span><span style="box-sizing: border-box\; outline: 0px\; color: rgb(51\, 51\, 51)\; white-space-collapse: preserve\; background-color: rgb(255\, 255\, 255)\; font-size: 18px\; font-family: Arial\;">CABA members will engage in B2B networking with </span><span style="box-sizing: border-box\; color: rgb(51\, 51\, 51)\; white-space-collapse: preserve\; background-color: rgb(255\, 255\, 255)\; font-size: 18px\; font-family: Arial\;">guests over snacks and coffee.&nbsp\; Join us </span><font face="Arial" style="box-sizing: border-box\; color: rgb(51\, 51\, 51)\; font-size: 16px\; background-color: rgb(255\, 255\, 255)\;"><span style="box-sizing: border-box\; font-size: 18px\; white-space-collapse: preserve\;">and learn why we say\, </span></font><em style="box-sizing: border-box\; color: rgb(51\, 51\, 51)\; white-space-collapse: preserve\; background-color: rgb(255\, 255\, 255)\; font-family: Arial\; font-size: 18px\;">&quot\;CABA is the best business address in Tampa Bay.&quot\;<br />\n<br />\nThank you to our cohosts Cindy Stuart with <a href="https://business.usecaba.com/list/member/hillsborough-county-clerk-of-the-court-11978649">Hillsborough County Clerk of Court</a>\, Tammy and Brad Cochran of <a href="https://business.usecaba.com/list/member/chicken-salad-chick-lutz-38900193">Chicken Salad Chick</a>\, and Bethany Brown\, ARNP MPH with <a href="https://business.usecaba.com/list/member/the-aesthetics-lounge-and-spa-tampa-tampa-38902085">The Aesthetics Lounge and Spa Tampa</a>.</em>
LOCATION:Chamberlain High School Outback Restaurant onsite 9401 N. Boulevard Tampa\, FL 33612
UID:e.9368.789983
SEQUENCE:3
DTSTAMP:20260422T003528Z
URL:http://usecabafl.memberzone.com/events/details/caba-coffee-at-chamberlain-high-school-legacy-alliance-outback-restaurant-onsite-789983
END:VEVENT

END:VCALENDAR
