BEGIN:VCALENDAR
VERSION:2.0
PRODID:-//ChamberMaster//Event Calendar 2.0//EN
METHOD:PUBLISH
X-PUBLISHED-TTL:P3D
REFRESH-INTERVAL:P3D
CALSCALE:GREGORIAN
BEGIN:VEVENT
DTSTART:20250205T123000Z
DTEND:20250205T140000Z
X-MICROSOFT-CDO-ALLDAYEVENT:FALSE
SUMMARY:CABA Coffee at Brightstar Chiropractic
DESCRIPTION:Don't miss this "sweet" Valentine Themed CABA Coffee networking with hosts\, Dr. Sev Kessler and Lizzie Walker Neal when CABA members and guests will engage in B2B networking on Wednesday.\n\nThank you to our cohosts Anilda Ortiz\, DNP\, APRN\, FNP-C (Advanced Optimal Healthcare)\, Alison Esposito (Westshore Injury Clinic)\, Amy Carpenter\, AP\, DOM (Alchemy Wellness & Acupuncture)\, Alison Haywood (Slater-Grant).
X-ALT-DESC;FMTTYPE=text/html:<span font-size:="" helvetica="" id="docs-internal-guid-1a8d6c47-7fff-a699-9b34-489b38512d9f" segoe="" style="box-sizing: border-box\; outline: 0px\; font-family: Poppins\, sans-serif\; font-size: 18px\; background-color: rgb(255\, 255\, 255)\; color: rgb(50\, 49\, 48)\;" ui="" web="" west=""><span style="box-sizing: border-box\; outline: 0px\; color: rgb(0\, 0\, 0)\; background-color: transparent\; font-variant-numeric: normal\; font-variant-east-asian: normal\; vertical-align: baseline\; white-space-collapse: preserve\;">Don&rsquo\;t miss this &quot\;sweet&quot\; Valentine Themed CABA Coffee networking</span></span><span background-color:="" color:="" font-size:="" font-variant-east-asian:="" font-variant-numeric:="" helvetica="" segoe="" style="box-sizing: border-box\; color: rgb(51\, 51\, 51)\; font-family: Poppins\, sans-serif\; font-size: 18px\; background-color: rgb(255\, 255\, 255)\;" ui="" vertical-align:="" web="" west="" white-space:="">&nbsp\;with hosts\, Dr. Sev Kessler and Lizzie Walker Neal when CABA members and guests will engage in B2B networking on&nbsp\;</span><span font-size:="" helvetica="" segoe="" style="box-sizing: border-box\; font-family: Poppins\, sans-serif\; font-size: 18px\; background-color: rgb(255\, 255\, 255)\; color: rgb(50\, 49\, 48)\;" ui="" web="" west="">Wednesday.<br />\nThank you to our cohosts Anilda Ortiz\, DNP\, APRN\, FNP-C (Advanced Optimal Healthcare)\, Alison Esposito (Westshore Injury Clinic)\, Amy Carpenter\, AP\, DOM (Alchemy Wellness &amp\; Acupuncture)\, Alison Haywood (Slater-Grant).</span>
LOCATION:Brightstar Chiropractic 17551 N. Dale Mabry Hwy. Lutz\, FL 33548
UID:e.9368.790098
SEQUENCE:3
DTSTAMP:20260421T005009Z
URL:http://usecabafl.memberzone.com/events/details/caba-coffee-at-brightstar-chiropractic-790098
END:VEVENT

END:VCALENDAR
