BEGIN:VCALENDAR
VERSION:2.0
PRODID:-//ChamberMaster//Event Calendar 2.0//EN
METHOD:PUBLISH
X-PUBLISHED-TTL:P3D
REFRESH-INTERVAL:P3D
CALSCALE:GREGORIAN
BEGIN:VEVENT
DTSTART:20251015T113000Z
DTEND:20251015T130000Z
X-MICROSOFT-CDO-ALLDAYEVENT:FALSE
SUMMARY:CABA Coffee at Boza & Roel Funeral Home (Sunset Gardens Memorial)
DESCRIPTION:Join host\, Michael Snyder for CABA's coffee networking when CABA members will engage in B2B networking with guests over snacks and coffee.  Guests are welcome to visit a CABA event twice before being asked to join.  Join us and learn why we say\, "CABA is the best business address in Tampa Bay."\n\nThank you to our cohosts\, Joy Pierson (Discovery Home Care)\, Gary Homberg (39 Eternal Health)\, and Dr. Tommy Lane\, DC with the Kiwanis Club of Carrollwood.
X-ALT-DESC;FMTTYPE=text/html:<span style="font-size: 18px\; font-family: Arial\; white-space: pre-wrap\;">Join host\, Michael Snyder for CABA&#39\;s coffee networking </span><span style="font-size: 18px\; font-family: Arial\; white-space: pre-wrap\;">when CABA members will engage in B2B networking with </span><span style="font-size: 18px\; font-family: Arial\; white-space: pre-wrap\;">guests over snacks and coffee.&nbsp\; Guests are welcome to visit a CABA event twice before being asked to join.&nbsp\; Join us </span><span style="font-size: 18px\; font-family: Arial\; white-space: pre-wrap\;">and learn why we say\, <em>&quot\;CABA is the best business address in Tampa Bay.&quot\;</em><br />\nThank you to our cohosts\, </span><span style="font-size: 18px\; font-family: Arial\; white-space: pre-wrap\;">Joy Pierson (Discovery Home Care)\, Gary Homberg (39 Eternal Health)\, and Dr. Tommy Lane\, DC with the Kiwanis Club of Carrollwood.</span>
LOCATION:Boza & Roel Funeral Home 4730 Armenia Avenue Tampa\, FL 33603
UID:e.9368.790221
SEQUENCE:3
DTSTAMP:20260420T072935Z
URL:http://usecabafl.memberzone.com/events/details/caba-coffee-at-boza-roel-funeral-home-sunset-gardens-memorial-790221
END:VEVENT

END:VCALENDAR
