BEGIN:VCALENDAR
VERSION:2.0
PRODID:-//ChamberMaster//Event Calendar 2.0//EN
METHOD:PUBLISH
X-PUBLISHED-TTL:P3D
REFRESH-INTERVAL:P3D
CALSCALE:GREGORIAN
BEGIN:VEVENT
DTSTART:20241211T123000Z
DTEND:20241211T140000Z
X-MICROSOFT-CDO-ALLDAYEVENT:FALSE
SUMMARY:CABA Coffee at Bayfirst Financial hosted by Jo-Anne Newby\, LLC
DESCRIPTION:Come join host Jo-Anne Newby\, LLC at this CABA coffee networking!  The location is at BayFirst Financial.  Come start your day making new connections and enjoy the coffee and refreshments provided.\n\n\n\nThank you to our cohosts\, Lisa Montero (BayFirst Financial)\, Dr. Michael Vega (Move Forward Chiropractic)\, Jenny McMurray (Floor Coverings International)\, and Ted Bociek (Carrollwood Roofing).
X-ALT-DESC;FMTTYPE=text/html:<span style="font-family:arial\;"><span style="font-size:18px\;">Come join host Jo-Anne Newby\, LLC at this CABA coffee networking!&nbsp\; The location is at BayFirst Financial.&nbsp\; Come start your day making new connections and enjoy the coffee and refreshments provided.<br />\n<br />\nThank you to our cohosts\, Lisa Montero (BayFirst Financial)\, Dr. Michael Vega (Move Forward Chiropractic)\, Jenny McMurray (Floor Coverings International)\, and Ted Bociek (Carrollwood Roofing).</span></span>
LOCATION:BayFirst Financial 16002 N. Dale Mabry Hwy. Tampa\, FL 33618
UID:e.9368.790073
SEQUENCE:3
DTSTAMP:20260421T035512Z
URL:http://usecabafl.memberzone.com/events/details/caba-coffee-at-bayfirst-financial-hosted-by-jo-anne-newby-llc-790073
END:VEVENT

END:VCALENDAR
