BEGIN:VCALENDAR
VERSION:2.0
PRODID:-//ChamberMaster//Event Calendar 2.0//EN
METHOD:PUBLISH
X-PUBLISHED-TTL:P3D
REFRESH-INTERVAL:P3D
CALSCALE:GREGORIAN
BEGIN:VEVENT
DTSTART:20260527T113000Z
DTEND:20260527T130000Z
X-MICROSOFT-CDO-ALLDAYEVENT:FALSE
SUMMARY:CABA Coffee at Alchemy Wellness & Acupuncture
DESCRIPTION:Join Dr. Amy Carpenter\, AP\, DOM for our CABA Coffee networking when you will meet business owners and CABA members for B2B networking.\n\nThank you to our cohosts Kris Knox (Everglazed Donuts)\, Trina Nguyen (Trina and Ruby's Nails)\, Rob Thomas (Inspired Tech Solutions)\, and Alison Haywood (Slater/Grant Personal Injury & Trial Firm).
X-ALT-DESC;FMTTYPE=text/html:<span id="docs-internal-guid-6cb829b5-7fff-5d4d-3802-1fd1a312e954" style=""><span style="background-color: transparent\; font-variant-numeric: normal\; font-variant-east-asian: normal\; vertical-align: baseline\;"><font color="#000000" face="Arial"><span style="font-size: 18px\; white-space: pre-wrap\;">Join Dr. </span></font></span></span><span id="docs-internal-guid-6cb829b5-7fff-5d4d-3802-1fd1a312e954" style="color: rgb(51\, 51\, 51)\; font-family: sans-serif\, Arial\, Verdana\, &quot\;Trebuchet MS&quot\;\; font-size: 13px\;"><span style="font-variant-numeric: normal\; font-variant-east-asian: normal\; vertical-align: baseline\;"><font color="#000000" face="Arial"><span style="font-size: 18px\; white-space-collapse: preserve\;">Amy</span></font></span></span><span style="background-color: rgb(255\, 255\, 255)\; color: rgb(50\, 49\, 48)\; font-family: Poppins\, sans-serif\; font-size: 18px\;">&nbsp\;Carpenter\, AP\, DOM for o</span><span style=""><span style="background-color: transparent\; font-variant-numeric: normal\; font-variant-east-asian: normal\; vertical-align: baseline\;"><font color="#000000" face="Arial"><span style="font-size: 18px\; white-space: pre-wrap\;">ur CABA Coffee networking when you will meet business owners and CABA members for B2B networking.<br />\nThank you to our cohosts Kris Knox (Everglazed Donuts)\, Trina Nguyen (Trina and Ruby&#39\;s Nails)\, Rob Thomas (Inspired Tech Solutions)\, and Alison Haywood (Slater/Grant Personal Injury &amp\; Trial Firm).</span></font></span></span>
LOCATION:Alchemy Wellness & Acupuncture 14502 N. Dale Mabry Hwy.\, #102 Tampa\, FL 33618
UID:e.9368.790313
SEQUENCE:3
DTSTAMP:20260419T222449Z
URL:http://usecabafl.memberzone.com/events/details/caba-coffee-at-alchemy-wellness-acupuncture-790313
END:VEVENT

END:VCALENDAR
