BEGIN:VCALENDAR
VERSION:2.0
PRODID:-//ChamberMaster//Event Calendar 2.0//EN
METHOD:PUBLISH
X-PUBLISHED-TTL:P3D
REFRESH-INTERVAL:P3D
CALSCALE:GREGORIAN
BEGIN:VEVENT
DTSTART:20240501T213000Z
DTEND:20240501T230000Z
X-MICROSOFT-CDO-ALLDAYEVENT:FALSE
SUMMARY:CABA Cinco de Mayo After 5 by Slater/Grant Personal Injury Trial Firm at Glory Days Grill
DESCRIPTION:It's Cinco de Mayo time! Come engage with Scott Slater and his staff with CABA members and guests at this FREE networking which provides a perfect ending to your Wednesday workday when you will meet business owners and CABA members for B2B networking.\n\n\n\nThank you to our co-hosts\, Lizette Rivera of Roasted Whisk\, Dr. Tommy Lane of Lane Family Wellness\, and Bobby Sparks of Glory Days Grill.
X-ALT-DESC;FMTTYPE=text/html:<span style="color: rgb(0\, 0\, 0)\; font-family: Arial\; font-size: 18px\; white-space: pre-wrap\;">It&#39\;s Cinco de Mayo time! Come engage with Scott Slater and his staff with CABA members and guests at this FREE networking which provides a perfect ending to your Wednesday workday when you will meet business owners and CABA members for B2B networking.<br />\n<br />\nThank you to our co-hosts\, Lizette Rivera of <a href="https://business.usecaba.com/list/member/roasted-whisk-38901906">Roasted Whisk</a>\, Dr. Tommy Lane of <a href="https://business.usecaba.com/list/member/lane-family-wellness-6159049">Lane Family Wellness</a>\, and Bobby Sparks of <a href="https://business.usecaba.com/list/member/glory-days-grill-16822425">Glory Days Grill</a>.</span>
LOCATION:LOCATION FOR THIS EVENT IS AT: GLORY DAYS GRILL 14457 N. Dale Mabry Hwy. Tampa\, FL 33618
UID:e.9368.789966
SEQUENCE:3
DTSTAMP:20260421T210218Z
URL:http://usecabafl.memberzone.com/events/details/caba-cinco-de-mayo-after-5-by-slater-grant-personal-injury-trial-firm-at-glory-days-grill-789966
END:VEVENT

END:VCALENDAR
