BEGIN:VCALENDAR
VERSION:2.0
PRODID:-//ChamberMaster//Event Calendar 2.0//EN
METHOD:PUBLISH
X-PUBLISHED-TTL:P3D
REFRESH-INTERVAL:P3D
CALSCALE:GREGORIAN
BEGIN:VEVENT
DTSTART:20260708T213000Z
DTEND:20260708T230000Z
X-MICROSOFT-CDO-ALLDAYEVENT:FALSE
SUMMARY:CABA Annual Meeting and Elections (Members Only Event) at TBD
DESCRIPTION:CABA MEMBERS ONLY.  Election results will be announced at this event! Join us at this CABA election After 5 when you will meet the 2026-2027 board of directors and have one last chance to cast your vote before 6:00 p.m.! \n\n\n\nPlease register so that we have an accurate count.
X-ALT-DESC;FMTTYPE=text/html:<span style="font-size:18px\;">CABA MEMBERS ONLY.&nbsp\; Election results will be announced at this event! Join us at this CABA election After 5 when you will meet the 2026-2027 board of directors and have one last chance to cast your vote before 6:00 p.m.!&nbsp\;<br />\n<br />\nPlease register&nbsp\;so that we have an accurate count.</span>
LOCATION:LOCATION TBD
UID:e.9368.790199
SEQUENCE:3
DTSTAMP:20260419T205627Z
URL:http://usecabafl.memberzone.com/events/details/caba-annual-meeting-and-elections-members-only-event-at-tbd-790199
END:VEVENT

END:VCALENDAR
