BEGIN:VCALENDAR
VERSION:2.0
PRODID:-//ChamberMaster//Event Calendar 2.0//EN
METHOD:PUBLISH
X-PUBLISHED-TTL:P3D
REFRESH-INTERVAL:P3D
CALSCALE:GREGORIAN
BEGIN:VEVENT
DTSTART:20220713T213000Z
DTEND:20220713T233000Z
X-MICROSOFT-CDO-ALLDAYEVENT:FALSE
SUMMARY:CABA Annual Meeting and Elections at Glory Days Grill
DESCRIPTION:Are you ready to network after work? Our CABA After 5 FREE networking provides a perfect ending to your Wednesday work day\, when you will meet the candidates for the 2022-2023 Board of Directors and have one last chance to cast your vote!
X-ALT-DESC;FMTTYPE=text/html:<span style="font-size:18px\;">Are you ready to network after work? Our CABA After 5 FREE networking provides a perfect ending to your Wednesday work day\, when you will meet the candidates for the 2022-2023 Board of Directors and have one last chance to cast your vote!</span>
LOCATION:Glory Days Grill 14457 North Dale Mabry Hwy Tampa\, FL 33618
UID:e.9368.789781
SEQUENCE:3
DTSTAMP:20260423T191255Z
URL:http://usecabafl.memberzone.com/events/details/caba-annual-meeting-and-elections-at-glory-days-grill-789781
END:VEVENT

END:VCALENDAR
