BEGIN:VCALENDAR
VERSION:2.0
PRODID:-//ChamberMaster//Event Calendar 2.0//EN
METHOD:PUBLISH
X-PUBLISHED-TTL:P3D
REFRESH-INTERVAL:P3D
CALSCALE:GREGORIAN
BEGIN:VEVENT
DTSTART:20230712T213000Z
DTEND:20230712T230000Z
X-MICROSOFT-CDO-ALLDAYEVENT:FALSE
SUMMARY:CABA Annual Meeting and Elections at Glory Days Grill
DESCRIPTION:CABA MEMBERS ONLY.  Election results will be announced at this event! Join us at this CABA election After 5 when you will meet the 2023-2024 board of directors and have one last chance to cast your vote before 6:00 p.m.!  This event will be held out on the patio and there will be six wall fans on full speed the whole evening. Thanks to LeShayne Maddex who is taking the photographs for this event!\n\nPlease register so that we have an accurate count for the vendor.\n\nRegister now!
X-ALT-DESC;FMTTYPE=text/html:<span style="font-size:18px\;">CABA MEMBERS ONLY.&nbsp\; Election results will be announced at this event! Join us at this CABA election After 5 when you will meet the 2023-2024 board of directors and have one last chance to cast your vote before 6:00 p.m.!&nbsp\; This event will be held out on the patio and there will be six wall fans on full speed the whole evening. <strong><span style="color:#0000FF\;">Thanks to </span><a href="https://business.usecaba.com/list/member/leshayne-maddex-photographer-38901999"><span style="color:#0000FF\;">LeShayne Maddex</span></a><span style="color:#0000FF\;"> who is taking the photographs for this event!</span></strong><br />\nPlease register so that we have an accurate count for the vendor.<br />\n<a href="https://business.usecaba.com/events/details/caba-annual-meeting-and-elections-at-glory-days-grill-07-12-2023-789908">Register now</a>!</span>
LOCATION:Glory Days Grill 14457 N. Dale Mabry Hwy. Tampa\, FL 33618
UID:e.9368.789908
SEQUENCE:3
DTSTAMP:20260422T195905Z
URL:http://usecabafl.memberzone.com/events/details/caba-annual-meeting-and-elections-at-glory-days-grill-07-12-2023-789908
END:VEVENT

END:VCALENDAR
