BEGIN:VCALENDAR
VERSION:2.0
PRODID:-//ChamberMaster//Event Calendar 2.0//EN
METHOD:PUBLISH
X-PUBLISHED-TTL:P3D
REFRESH-INTERVAL:P3D
CALSCALE:GREGORIAN
BEGIN:VEVENT
DTSTART:20220817T213000Z
DTEND:20220817T230000Z
X-MICROSOFT-CDO-ALLDAYEVENT:FALSE
SUMMARY:CABA After 5 & Ribbon Cutting at Hotworx
DESCRIPTION:Are you ready to help us celebrate our new CABA member and network after work? Our CABA After 5 networking and Ribbon Cutting provides a perfect ending to your Wednesday workday\, when you will meet business owners and CABA members for B2B networking. Help us celebrate small business in our community.\n\n\n\nThank you to our co-hosts:\n\nJohn Michael Enterprises\n\nJaffe Tilchin\n\nEnvizion Medical\n\nBlack Sheep American Pub
X-ALT-DESC;FMTTYPE=text/html:<p><span id="docs-internal-guid-6cb829b5-7fff-5d4d-3802-1fd1a312e954" style="font-family: Roboto\, sans-serif\; font-size: 18px\;"><span style="font-family: Arial\; color: rgb(0\, 0\, 0)\; background-color: transparent\; font-variant-numeric: normal\; font-variant-east-asian: normal\; vertical-align: baseline\; white-space: pre-wrap\;">Are you ready to </span></span><span id="docs-internal-guid-0970c969-7fff-bc62-bfd2-4384a4110844" style="font-family: Roboto\, sans-serif\; font-size: 18px\;"><span style="font-family: Arial\; color: rgb(0\, 0\, 0)\; background-color: transparent\; font-variant-numeric: normal\; font-variant-east-asian: normal\; vertical-align: baseline\; white-space: pre-wrap\;">help us celebrate our new CABA member and </span></span><span style="font-family: Arial\; font-size: 18px\; color: rgb(0\, 0\, 0)\; background-color: transparent\; font-variant-numeric: normal\; font-variant-east-asian: normal\; vertical-align: baseline\; white-space: pre-wrap\;">network after work? Our CABA After 5 networking and Ribbon Cutting provides a perfect ending to your Wednesday workday\, when you will meet business owners and CABA members for B2B networking. </span><span id="docs-internal-guid-1cfdd25b-7fff-97e0-f324-c6d690167b04" style=""><span style="background-color: transparent\; font-variant-numeric: normal\; font-variant-east-asian: normal\; vertical-align: baseline\;"><font color="#000000" face="Arial"><span style="font-size: 18px\; white-space: pre-wrap\;">Help us celebrate small business in our community.</span></font><br />\n<br />\n<font color="#000000" face="Arial"><span style="font-size: 18px\; white-space: pre-wrap\;">Thank you to our co-hosts:</span></font><br />\n<font color="#000000" face="Arial"><span style="font-size: 18px\; white-space: pre-wrap\;">John Michael Enterprises</span></font><br />\n<font color="#000000" face="Arial"><span style="font-size: 18px\; white-space: pre-wrap\;">Jaffe Tilchin<br />\nEnvizion Medical<br />\nBlack Sheep American Pub</span></font></span></span><br />\n<br />\n<br />\n<br />\n<br />\n&nbsp\;</p>\n
LOCATION:Hotworx 13705 N Dale Mabry Hwy Tampa\, FL 33618
UID:e.9368.789733
SEQUENCE:3
DTSTAMP:20260423T191201Z
URL:http://usecabafl.memberzone.com/events/details/caba-after-5-ribbon-cutting-at-hotworx-789733
END:VEVENT

END:VCALENDAR
