BEGIN:VCALENDAR
VERSION:2.0
PRODID:-//ChamberMaster//Event Calendar 2.0//EN
METHOD:PUBLISH
X-PUBLISHED-TTL:P3D
REFRESH-INTERVAL:P3D
CALSCALE:GREGORIAN
BEGIN:VEVENT
DTSTART:20220330T213000Z
DTEND:20220330T233000Z
X-MICROSOFT-CDO-ALLDAYEVENT:FALSE
SUMMARY:CABA After 5 hosted by Ingenious Travel at the Fit Effect
DESCRIPTION:Are you ready to network after work? Our CABA After 5 FREE networking provides a perfect ending to your Wednesday workday\, when you will meet business owners and CABA members for B2B networking.\n\n\n\nThank you to our co-hosts:\n\n\n\nBlack Sheep American Pub\n\nThe Fit Effect\n\nProperties Title\n\nJaffe Tilchin Insurance Services
X-ALT-DESC;FMTTYPE=text/html:<span style="font-size:18px\;"><span id="docs-internal-guid-6cb829b5-7fff-5d4d-3802-1fd1a312e954"><span style="font-family: Arial\; color: rgb(0\, 0\, 0)\; background-color: transparent\; font-variant-numeric: normal\; font-variant-east-asian: normal\; vertical-align: baseline\; white-space: pre-wrap\;">Are you ready to network after work? Our CABA After 5 FREE networking provides a perfect ending to your Wednesday workday\, when you will meet business owners and CABA members for B2B networking.<br />\n<br />\nThank you to our co-hosts:</span></span><br />\n<br />\n<span style="color: rgb(34\, 34\, 34)\; font-family: Arial\, Helvetica\, sans-serif\;">Black Sheep American Pub<br />\nThe Fit Effect</span><br />\n<span style="color: rgb(0\, 0\, 0)\; font-family: Arial\, Helvetica\, sans-serif\;">Properties Title</span></span><br />\n<span style="font-size:18px\;">Jaffe Tilchin Insurance Services</span>
LOCATION:The Fit Effect 15445 North Nebraska Ave. Suite 300 Lutz\, FL 33549
UID:e.9368.789714
SEQUENCE:3
DTSTAMP:20260424T042710Z
URL:http://usecabafl.memberzone.com/events/details/caba-after-5-hosted-by-ingenious-travel-at-the-fit-effect-789714
END:VEVENT

END:VCALENDAR
