BEGIN:VCALENDAR
VERSION:2.0
PRODID:-//ChamberMaster//Event Calendar 2.0//EN
METHOD:PUBLISH
X-PUBLISHED-TTL:P3D
REFRESH-INTERVAL:P3D
CALSCALE:GREGORIAN
BEGIN:VEVENT
DTSTART:20260520T213000Z
DTEND:20260520T230000Z
X-MICROSOFT-CDO-ALLDAYEVENT:FALSE
SUMMARY:CABA After 5 by Suli Law Group at BayFirst Financial
DESCRIPTION:Come join in the fun with hosts Jason and Laura Sulisufay (Suli Law Group) for this kickoff to summer BBQ themed CABA After 5. It is a great opportunity to meet business owners and CABA members for B2B networking.\n\nThank you to our cohost: Lisa Montero (BayFirst Financial) and Billy Sinagridis (Orama Business Solutions).
X-ALT-DESC;FMTTYPE=text/html:<span style="font-family:arial\;"><span style="font-size:18px\;"><span style="color: rgb(36\, 36\, 36)\;">Come join in the fun with hosts Jason and Laura Sulisufay (Suli Law Group) for this </span><span style="color:#FF0000\;"><strong>kickoff to summer BBQ themed</strong></span><span style="color: rgb(36\, 36\, 36)\;"> CABA After 5. It is a great opportunity to meet business owners and CABA members for B2B networking.<br />\nThank you to our cohost: Lisa Montero (BayFirst Financial) and Billy Sinagridis (Orama Business Solutions).</span></span></span>
LOCATION:BayFirst Financial 16002 N. Dale Mabry Hwy. Tampa\, FL 33618
UID:e.9368.790287
SEQUENCE:3
DTSTAMP:20260419T222407Z
URL:http://usecabafl.memberzone.com/events/details/caba-after-5-by-suli-law-group-at-bayfirst-financial-790287
END:VEVENT

END:VCALENDAR
