BEGIN:VCALENDAR
VERSION:2.0
PRODID:-//ChamberMaster//Event Calendar 2.0//EN
METHOD:PUBLISH
X-PUBLISHED-TTL:P3D
REFRESH-INTERVAL:P3D
CALSCALE:GREGORIAN
BEGIN:VEVENT
DTSTART:20250115T223000Z
DTEND:20250116T000000Z
X-MICROSOFT-CDO-ALLDAYEVENT:FALSE
SUMMARY:CABA After 5 by Soleil Claims at Glory Days Grill
DESCRIPTION:Are you ready to network after work? Our CABA After 5 networking with host Andrew Pichardo provides a perfect ending to your Wednesday workday when you will meet business owners and CABA members for B2B networking.\n\nThank you to our cohosts: James Ward (Coast to Coast Remediation & Cleaning)\, Jorge Ubieta (Engage Mold Solutions of FL)\, Jason Sulsufay (Suli Law)\, and Bobby Sparks (Glory Days Grill)
X-ALT-DESC;FMTTYPE=text/html:<span id="docs-internal-guid-6cb829b5-7fff-5d4d-3802-1fd1a312e954" style=""><span style="background-color: transparent\; font-variant-numeric: normal\; font-variant-east-asian: normal\; vertical-align: baseline\;"><font color="#000000" face="Arial"><span style="font-size: 18px\; white-space: pre-wrap\;">Are you ready to network after work? Our CABA After 5 networking with host Andrew Pichardo provides a perfect ending to your Wednesday workday when you will meet business owners and CABA members for B2B networking.<br />\nThank you to our cohosts: James Ward (Coast to Coast Remediation &amp\; Cleaning)\, Jorge Ubieta (Engage Mold Solutions of FL)\, Jason Sulsufay (Suli Law)\, and Bobby Sparks (Glory Days Grill)</span></font></span></span>
LOCATION:LOCATION IS AT: Glory Days Grill 14457 N. Dale Mabry Hwy. Tampa\, FL 33618
UID:e.9368.790103
SEQUENCE:3
DTSTAMP:20260421T035358Z
URL:http://usecabafl.memberzone.com/events/details/caba-after-5-by-soleil-claims-at-glory-days-grill-790103
END:VEVENT

END:VCALENDAR
