BEGIN:VCALENDAR
VERSION:2.0
PRODID:-//ChamberMaster//Event Calendar 2.0//EN
METHOD:PUBLISH
X-PUBLISHED-TTL:P3D
REFRESH-INTERVAL:P3D
CALSCALE:GREGORIAN
BEGIN:VEVENT
DTSTART:20251203T223000Z
DTEND:20251204T000000Z
X-MICROSOFT-CDO-ALLDAYEVENT:FALSE
SUMMARY:CABA After 5 by FireWatch Magazine at BayFirst Financial
DESCRIPTION:Are you ready to network after work? Join host Sarah Williams at this CABA After 5 networking that provides a perfect ending to your Wednesday workday when you will meet business owners and CABA members for B2B networking.\n\nThank you to our cohosts Yaimy Marshall (Bob Sierra Family YMCA)\, Jenny McMurray (Floor Coverings International)\, and Lisa Montero (BayFirst Financial).
X-ALT-DESC;FMTTYPE=text/html:<span id="docs-internal-guid-6cb829b5-7fff-5d4d-3802-1fd1a312e954" style=""><span style="background-color: transparent\; font-variant-numeric: normal\; font-variant-east-asian: normal\; vertical-align: baseline\;"><font color="#000000" face="Arial"><span style="font-size: 18px\; white-space: pre-wrap\;">Are you ready to network after work? Join host Sarah Williams at this CABA After 5 networking that provides a perfect ending to your Wednesday workday when you will meet business owners and CABA members for B2B networking.<br />\nThank you to our cohosts Yaimy Marshall (Bob Sierra Family YMCA)\, Jenny McMurray (Floor Coverings International)\, and Lisa Montero (BayFirst Financial).</span></font></span></span>
LOCATION:LOCATION IS AT: BayFirst Financial 16002 N. Dale Mabry Hwy. Tampa\, FL 33618
UID:e.9368.790169
SEQUENCE:3
DTSTAMP:20260420T040450Z
URL:http://usecabafl.memberzone.com/events/details/caba-after-5-by-firewatch-magazine-at-bayfirst-financial-790169
END:VEVENT

END:VCALENDAR
