BEGIN:VCALENDAR
VERSION:2.0
PRODID:-//ChamberMaster//Event Calendar 2.0//EN
METHOD:PUBLISH
X-PUBLISHED-TTL:P3D
REFRESH-INTERVAL:P3D
CALSCALE:GREGORIAN
BEGIN:VEVENT
DTSTART:20251105T223000Z
DTEND:20251106T000000Z
X-MICROSOFT-CDO-ALLDAYEVENT:FALSE
SUMMARY:CABA After 5 by DJ Scuba Steve at The Brass Tap
DESCRIPTION:Are you ready to network after work? Our CABA After 5 FREE networking provides a perfect ending to your Wednesday workday when you will meet business owners and CABA members for B2B networking.\n\nThank you to our cohosts Dr. Amy Carpenter\, DOM\, AP (Alchemy Wellness & Acupuncture)\, Antonio Berker (USA Cabinet Store)\, Dr. Tommy Lane\, DC (Lane Family Wellness)\, and Luke Harris (Comcast Business).
X-ALT-DESC;FMTTYPE=text/html:<span style="color: rgb(0\, 0\, 0)\; font-family: Arial\; font-size: 18px\; white-space-collapse: preserve\;">Are you ready to network after work? Our CABA After 5 FREE networking provides a perfect ending to your Wednesday workday when you will meet business owners and CABA members for B2B networking.<br />\nThank you to our cohosts Dr. Amy Carpenter\, DOM\, AP (Alchemy Wellness &amp\; Acupuncture)\, Antonio Berker (USA Cabinet Store)\, Dr. Tommy Lane\, DC (Lane Family Wellness)\, and Luke Harris (Comcast Business).</span>
LOCATION:The Brass Tap 10047 N. Dale Mabry Hwy. Tampa\, FL 33618
UID:e.9368.790148
SEQUENCE:3
DTSTAMP:20260420T072824Z
URL:http://usecabafl.memberzone.com/events/details/caba-after-5-by-dj-scuba-steve-at-the-brass-tap-790148
END:VEVENT

END:VCALENDAR
