BEGIN:VCALENDAR
VERSION:2.0
PRODID:-//ChamberMaster//Event Calendar 2.0//EN
METHOD:PUBLISH
X-PUBLISHED-TTL:P3D
REFRESH-INTERVAL:P3D
CALSCALE:GREGORIAN
BEGIN:VEVENT
DTSTART:20220302T223000Z
DTEND:20220303T000000Z
X-MICROSOFT-CDO-ALLDAYEVENT:FALSE
SUMMARY:CABA After 5 at Thomas P's Sports Bar
DESCRIPTION:Are you ready to network after work? Our CABA After 5 FREE networking provides a perfect ending to your Wednesday work day\, when you will meet business owners and CABA members for B2B networking.\n\n\n\nThis event's theme is March Madness\n\n\n\nThank you to our co-hosts:\n\nADT Security\n\nJohn Michael Enterprises\n\nKDC Outfitters
X-ALT-DESC;FMTTYPE=text/html:<span style="font-size:18px\;"><span id="docs-internal-guid-6cb829b5-7fff-5d4d-3802-1fd1a312e954"><span style="font-family: Arial\; color: rgb(0\, 0\, 0)\; background-color: transparent\; font-variant-numeric: normal\; font-variant-east-asian: normal\; vertical-align: baseline\; white-space: pre-wrap\;">Are you ready to network after work? Our CABA After 5 FREE networking provides a perfect ending to your Wednesday work day\, when you will meet business owners and CABA members for B2B networking.<br />\n<br />\nThis event&#39\;s theme is March Madness<br />\n<br />\nThank you to our co-hosts:<br />\nADT Security</span></span><br />\n<span style="color: rgb(0\, 0\, 0)\; font-family: Roboto\, RobotoDraft\, Helvetica\, Arial\, sans-serif\; white-space: pre-wrap\;">John Michael Enterprises<br />\nKDC Outfitters</span></span>
LOCATION:Thomas P's Sports Bar and Patio 12836 Henderson Road Tampa\, Florida 33625
UID:e.9368.789473
SEQUENCE:3
DTSTAMP:20260424T042841Z
URL:http://usecabafl.memberzone.com/events/details/caba-after-5-at-thomas-p-s-sports-bar-789473
END:VEVENT

END:VCALENDAR
