BEGIN:VCALENDAR
VERSION:2.0
PRODID:-//ChamberMaster//Event Calendar 2.0//EN
METHOD:PUBLISH
X-PUBLISHED-TTL:P3D
REFRESH-INTERVAL:P3D
CALSCALE:GREGORIAN
BEGIN:VEVENT
DTSTART:20240417T213000Z
DTEND:20240417T230000Z
X-MICROSOFT-CDO-ALLDAYEVENT:FALSE
SUMMARY:CABA After 5 at Prime IV Hydration and Wellness
DESCRIPTION:Come engage with host Cesar Caolo at this FREE networking which provides a perfect ending to your Wednesday workday when you will meet business owners and CABA members for B2B networking.
X-ALT-DESC;FMTTYPE=text/html:<span style="color: rgb(0\, 0\, 0)\; font-family: Arial\; font-size: 18px\; white-space: pre-wrap\;">Come engage with host Cesar Caolo at this FREE networking which provides a perfect ending to your Wednesday workday when you will meet business owners and CABA members for B2B networking.</span>
LOCATION:Prime IV Hydration and Wellness 12922 N. Dale Mabry Hwy. Tampa\, FL 33618
UID:e.9368.789967
SEQUENCE:3
DTSTAMP:20260421T225932Z
URL:http://usecabafl.memberzone.com/events/details/caba-after-5-at-prime-iv-hydration-and-wellness-789967
END:VEVENT

END:VCALENDAR
