BEGIN:VCALENDAR
VERSION:2.0
PRODID:-//ChamberMaster//Event Calendar 2.0//EN
METHOD:PUBLISH
X-PUBLISHED-TTL:P3D
REFRESH-INTERVAL:P3D
CALSCALE:GREGORIAN
BEGIN:VEVENT
DTSTART:20230201T223000Z
DTEND:20230202T000000Z
X-MICROSOFT-CDO-ALLDAYEVENT:FALSE
SUMMARY:CABA After 5 at Prestige Business Enterprises
DESCRIPTION:Super Bowl Celebration! Wear your jersey and support your favorite of the two teams (don't be surprised if there is a "Superbowl Pool.")\n\n\n\nAre you ready to network after work? Our CABA After 5 FREE networking provides a perfect ending to your Wednesday workday when you will meet business owners and CABA members for B2B networking.\n\n\n\nThank you to our co-host:\n\nWindward Wealth Management
X-ALT-DESC;FMTTYPE=text/html:<span id="docs-internal-guid-6cb829b5-7fff-5d4d-3802-1fd1a312e954" style=""><span style="background-color: transparent\; font-variant-numeric: normal\; font-variant-east-asian: normal\; vertical-align: baseline\;"><font color="#000000" face="Arial"><span style="font-size: 18px\; white-space: pre-wrap\;">Super Bowl Celebration! Wear your jersey and support your favorite of the two teams (don&#39\;t be surprised if there is a &quot\;Superbowl Pool.&quot\;)<br />\n<br />\nAre you ready to network after work? Our CABA After 5 FREE networking provides a perfect ending to your Wednesday workday when you will meet business owners and CABA members for B2B networking.<br />\n<br />\nThank you to our co-host:<br />\nWindward Wealth Management</span></font></span></span>
LOCATION:Prestige Business Enterprises 7434 Monika Manor Drive Tampa\, FL 33625
UID:e.9368.789845
SEQUENCE:3
DTSTAMP:20260423T042234Z
URL:http://usecabafl.memberzone.com/events/details/caba-after-5-at-prestige-business-enterprises-02-01-2023-789845
END:VEVENT

END:VCALENDAR
