BEGIN:VCALENDAR
VERSION:2.0
PRODID:-//ChamberMaster//Event Calendar 2.0//EN
METHOD:PUBLISH
X-PUBLISHED-TTL:P3D
REFRESH-INTERVAL:P3D
CALSCALE:GREGORIAN
BEGIN:VEVENT
DTSTART:20220316T213000Z
DTEND:20220316T233000Z
X-MICROSOFT-CDO-ALLDAYEVENT:FALSE
SUMMARY:CABA After 5 at Lane Family Wellness
DESCRIPTION:Are you ready to network after work? Our CABA After 5 FREE networking provides a perfect ending to your Wednesday work day\, when you will meet business owners and CABA members for B2B networking with a St. Patrick's Day theme.
X-ALT-DESC;FMTTYPE=text/html:<span style="color: rgb(0\, 0\, 0)\; font-family: Arial\; font-size: 18px\; white-space: pre-wrap\;">Are you ready to network after work? Our CABA After 5 FREE networking provides a perfect ending to your Wednesday work day\, when you will meet business owners and CABA members for B2B networking with a St. Patrick&#39\;s Day theme.</span><br />\n&nbsp\;
LOCATION:Lane Family Wellness 1323 West Fletcher Avenue Tampa\, FL 33612
UID:e.9368.789461
SEQUENCE:3
DTSTAMP:20260424T042821Z
URL:http://usecabafl.memberzone.com/events/details/caba-after-5-at-lane-family-wellness-789461
END:VEVENT

END:VCALENDAR
