BEGIN:VCALENDAR
VERSION:2.0
PRODID:-//ChamberMaster//Event Calendar 2.0//EN
METHOD:PUBLISH
X-PUBLISHED-TTL:P3D
REFRESH-INTERVAL:P3D
CALSCALE:GREGORIAN
BEGIN:VEVENT
DTSTART:20260805T213000Z
DTEND:20260805T230000Z
X-MICROSOFT-CDO-ALLDAYEVENT:FALSE
SUMMARY:CABA After 5 at Hudson's Furniture
DESCRIPTION:Join host\, Tim Thompson for CABA's After 5 networking when CABA members will engage in B2B networking with guests.  Guests are welcome to visit a CABA event twice before being asked to join.  Join us and learn why we say\, "CABA is the best business address in Tampa Bay."
X-ALT-DESC;FMTTYPE=text/html:<span style="font-size: 18px\; font-family: Arial\; white-space: pre-wrap\;">Join host\, Tim Thompson for CABA&#39\;s After 5 networking </span><span style="font-size: 18px\; font-family: Arial\; white-space: pre-wrap\;">when CABA members will engage in B2B networking with </span><span style="font-size: 18px\; font-family: Arial\; white-space: pre-wrap\;">guests.&nbsp\; Guests are welcome to visit a CABA event twice before being asked to join.&nbsp\; Join us </span><span style="font-size: 18px\; font-family: Arial\; white-space: pre-wrap\;">and learn why we say\, <em>&quot\;CABA is the best business address in Tampa Bay.&quot\;</em></span>
LOCATION:Hudson's Furniture 8030 N. Dale Mabry Hwy. Tampa\, FL 33614
UID:e.9368.790318
SEQUENCE:3
DTSTAMP:20260419T205627Z
URL:http://usecabafl.memberzone.com/events/details/caba-after-5-at-hudson-s-furniture-790318
END:VEVENT

END:VCALENDAR
