BEGIN:VCALENDAR
VERSION:2.0
PRODID:-//ChamberMaster//Event Calendar 2.0//EN
METHOD:PUBLISH
X-PUBLISHED-TTL:P3D
REFRESH-INTERVAL:P3D
CALSCALE:GREGORIAN
BEGIN:VEVENT
DTSTART:20251119T223000Z
DTEND:20251120T000000Z
X-MICROSOFT-CDO-ALLDAYEVENT:FALSE
SUMMARY:CABA After 5 at Blue Wave Orthodontics
DESCRIPTION:Are you ready to network after work? Our CABA After 5 FREE networking provides a perfect ending to your Wednesday workday when you will meet business owners and CABA members for B2B networking.\n\nThank you to our cohosts Rob Cunningham with ADT Security\, Ted Bociek (Carrollwood Roofing)\, and Quint Bodine (Auris Payroll Solutions).
X-ALT-DESC;FMTTYPE=text/html:<span id="docs-internal-guid-6cb829b5-7fff-5d4d-3802-1fd1a312e954" style=""><span style="background-color: transparent\; font-variant-numeric: normal\; font-variant-east-asian: normal\; vertical-align: baseline\;"><font color="#000000" face="Arial"><span style="font-size: 18px\; white-space: pre-wrap\;">Are you ready to network after work? Our CABA After 5 FREE networking provides a perfect ending to your Wednesday workday when you will meet business owners and CABA members for B2B networking.<br />\nThank you to our cohosts Rob Cunningham with ADT Security\, Ted Bociek (Carrollwood Roofing)\, and Quint Bodine (Auris Payroll Solutions).</span></font></span></span>
LOCATION:Blue Wave Orthodontics 1773 W. Fletcher Avenue Tampa\, FL 33612
UID:e.9368.790160
SEQUENCE:3
DTSTAMP:20260420T054917Z
URL:http://usecabafl.memberzone.com/events/details/caba-after-5-at-blue-wave-orthodontics-790160
END:VEVENT

END:VCALENDAR
