BEGIN:VCALENDAR
VERSION:2.0
PRODID:-//ChamberMaster//Event Calendar 2.0//EN
METHOD:PUBLISH
X-PUBLISHED-TTL:P3D
REFRESH-INTERVAL:P3D
CALSCALE:GREGORIAN
BEGIN:VEVENT
DTSTART:20220720T213000Z
DTEND:20220720T233000Z
X-MICROSOFT-CDO-ALLDAYEVENT:FALSE
SUMMARY:CABA After 5 at Bank of Tampa
DESCRIPTION:Are you ready to network after work? Our CABA After 5 FREE networking provides a perfect ending to your Wednesday work day\, when you will meet business owners and CABA members for B2B networking.\n\n\n\nThank you to our co-hosts:    \nJohn Michael Enterprises\n\nLane Family Wellness\n\nDo U IT\n\nHancock Injury Attorney's
X-ALT-DESC;FMTTYPE=text/html:<span style="font-size:18px\;"><span id="docs-internal-guid-6cb829b5-7fff-5d4d-3802-1fd1a312e954"><span style="font-family: Arial\; color: rgb(0\, 0\, 0)\; background-color: transparent\; font-variant-numeric: normal\; font-variant-east-asian: normal\; vertical-align: baseline\; white-space: pre-wrap\;">Are you ready to network after work? Our CABA After 5 FREE networking provides a perfect ending to your Wednesday work day\, when you will meet business owners and CABA members for B2B networking.<br />\n<br />\nThank you to our co-hosts:</span></span></span>&nbsp\;&nbsp\;&nbsp\;&nbsp\;\n<div style="color: rgb(34\, 34\, 34)\; font-family: Arial\, Helvetica\, sans-serif\; font-size: small\;"><span style="font-size:18px\;">John Michael Enterprises</span></div>\n\n<div style="color: rgb(34\, 34\, 34)\; font-family: Arial\, Helvetica\, sans-serif\; font-size: small\;"><span style="font-size:18px\;">Lane Family Wellness<br />\nDo U IT<br />\nHancock Injury Attorney&#39\;s</span></div>\n
LOCATION:Bank of Tampa 13868 North Dale Mabry Highway Tampa\, Florida 33618
UID:e.9368.789731
SEQUENCE:3
DTSTAMP:20260423T191353Z
URL:http://usecabafl.memberzone.com/events/details/caba-after-5-at-bank-of-tampa-789731
END:VEVENT

END:VCALENDAR
