BEGIN:VCALENDAR
VERSION:2.0
PRODID:-//ChamberMaster//Event Calendar 2.0//EN
METHOD:PUBLISH
X-PUBLISHED-TTL:P3D
REFRESH-INTERVAL:P3D
CALSCALE:GREGORIAN
BEGIN:VEVENT
DTSTART:20251104T163000Z
DTEND:20251104T180000Z
X-MICROSOFT-CDO-ALLDAYEVENT:FALSE
SUMMARY:Ambassador Committee Meeting at Mandola's Italian Kitchen
DESCRIPTION:Come and join the Ambassador Committee meeting to learn more about our awesome group of CABA members helping new CABA members! All are welcome! Looking forward to seeing you there! Please note: the meeting will begin at 12 noon and end at 1pm. Open networking from 11:30am-12pm!
X-ALT-DESC;FMTTYPE=text/html:<p data-end="200" data-start="122"><span style="font-size:18px\;">Come and join the Ambassador Committee meeting to learn more about our awesome group of&nbsp\;CABA&nbsp\;members helping new CABA members! All are welcome! Looking forward to seeing you there! Please note: the&nbsp\;meeting will begin at 12 noon and end at 1pm. Open networking from 11:30am-12pm!</span></p>\n
LOCATION:Mandola's Italian Kitchen 14703 N. Dale Mabry Hwy. Tampa\, FL 33618
UID:e.9368.790281
SEQUENCE:3
DTSTAMP:20260420T072506Z
URL:http://usecabafl.memberzone.com/events/details/ambassador-committee-meeting-at-mandola-s-italian-kitchen-790281
END:VEVENT

END:VCALENDAR
