BEGIN:VCALENDAR
VERSION:2.0
PRODID:-//ChamberMaster//Event Calendar 2.0//EN
METHOD:PUBLISH
X-PUBLISHED-TTL:P3D
REFRESH-INTERVAL:P3D
CALSCALE:GREGORIAN
BEGIN:VEVENT
DTSTART:20240110T210000Z
DTEND:20240110T214500Z
X-MICROSOFT-CDO-ALLDAYEVENT:FALSE
SUMMARY:Ambassador Committee Meeting at Glory Days Grill
DESCRIPTION:You are invited to join the ambassador committee meeting where we will discuss retention and how to be the best CABA ambassador to your fellow members.
X-ALT-DESC;FMTTYPE=text/html:<span style="font-size:18px\;">You are invited to join the ambassador committee meeting where we will discuss retention and how to be the best CABA ambassador to your fellow members.</span>
LOCATION:Glory Days Grill 14457 N. Dale Mabry Hwy Tampa\, FL 33618
UID:e.9368.789976
SEQUENCE:3
DTSTAMP:20260422T042452Z
URL:http://usecabafl.memberzone.com/events/details/ambassador-committee-meeting-at-glory-days-grill-789976
END:VEVENT

END:VCALENDAR
