BEGIN:VCALENDAR
VERSION:2.0
PRODID:-//ChamberMaster//Event Calendar 2.0//EN
METHOD:PUBLISH
X-PUBLISHED-TTL:P3D
REFRESH-INTERVAL:P3D
CALSCALE:GREGORIAN
BEGIN:VEVENT
DTSTART:20240918T203000Z
DTEND:20240918T213000Z
X-MICROSOFT-CDO-ALLDAYEVENT:FALSE
SUMMARY:Ambassador Committee Meeting at Glory
DESCRIPTION:Come join us at the Ambassador Committee Meeting!
X-ALT-DESC;FMTTYPE=text/html:<span style="font-size:18px\;"><span style="font-family:arial\;">Come join us at the Ambassador Committee Meeting!</span></span>
LOCATION:Glory Days Grill 14457 N. Dale Mabry Hwy Tampa\, FL 33618
UID:e.9368.790075
SEQUENCE:3
DTSTAMP:20260421T123656Z
URL:http://usecabafl.memberzone.com/events/details/ambassador-committee-meeting-at-glory-790075
END:VEVENT

END:VCALENDAR
