BEGIN:VCALENDAR
VERSION:2.0
PRODID:-//ChamberMaster//Event Calendar 2.0//EN
METHOD:PUBLISH
X-PUBLISHED-TTL:P3D
REFRESH-INTERVAL:P3D
CALSCALE:GREGORIAN
BEGIN:VEVENT
DTSTART:20250905T120000Z
DTEND:20250905T130000Z
X-MICROSOFT-CDO-ALLDAYEVENT:FALSE
SUMMARY:Ambassador Committee Meeting at Chick-Fil-A (N. Dale Mabry)
DESCRIPTION:You're Invited!\n\nJoin us for the next Ambassador Committee Meeting.\n\nAs CABA's super connectors\, we're dedicated to welcoming and onboarding new members while helping everyone get the most out of their membership.\n\nIf you're excited about:\n\n\n	\n	Increasing member engagement\n	\n	\n	Connecting members with mentors and referral partners\n	\n	\n	Encouraging members to join committees and get involved\n	\n\n\n then this is the committee for you! We'd love to have your voice at the table.
X-ALT-DESC;FMTTYPE=text/html:<p data-end="200" data-start="122"><span style="font-size:18px\;"><span style="font-family:arial\;"><strong data-end="141" data-start="122">You&rsquo\;re Invited!</strong><br data-end="144" data-start="141" />\nJoin us for the next <strong data-end="197" data-start="165">Ambassador Committee Meeting</strong>.</span></span></p>\n\n<p data-end="350" data-start="202"><span style="font-size:18px\;"><span style="font-family:arial\;">As CABA&rsquo\;s <em data-end="230" data-start="212">super connectors</em>\, we&rsquo\;re dedicated to welcoming and onboarding new members while helping everyone get the most out of their membership.</span></span></p>\n\n<p data-end="378" data-start="352"><span style="font-size:18px\;"><span style="font-family:arial\;">If you&rsquo\;re excited about:</span></span></p>\n\n<ul data-end="529" data-start="379">\n	<li data-end="411" data-start="379">\n	<p data-end="411" data-start="381"><span style="font-size:18px\;"><span style="font-family:arial\;">Increasing member engagement</span></span></p>\n	</li>\n	<li data-end="469" data-start="412">\n	<p data-end="469" data-start="414"><span style="font-size:18px\;"><span style="font-family:arial\;">Connecting members with mentors and referral partners</span></span></p>\n	</li>\n	<li data-end="529" data-start="470">\n	<p data-end="529" data-start="472"><span style="font-size:18px\;"><span style="font-family:arial\;">Encouraging members to join committees and get involved</span></span></p>\n	</li>\n</ul>\n\n<p data-end="612" data-start="531"><span style="font-size:18px\;"><span style="font-family:arial\;">&hellip\;then this is the committee for you! We&rsquo\;d love to have your voice at the table.</span></span></p>\n
LOCATION:Chick-Fil-A (N. Dale Mabry) 13256 N. Dale Mabry Hwy. Tampa\, FL 33618
UID:e.9368.790255
SEQUENCE:3
DTSTAMP:20260420T124535Z
URL:http://usecabafl.memberzone.com/events/details/ambassador-committee-meeting-at-chick-fil-a-n-dale-mabry-790255
END:VEVENT

END:VCALENDAR
