BEGIN:VCALENDAR
VERSION:2.0
PRODID:-//ChamberMaster//Event Calendar 2.0//EN
METHOD:PUBLISH
X-PUBLISHED-TTL:P3D
REFRESH-INTERVAL:P3D
CALSCALE:GREGORIAN
BEGIN:VEVENT
DTSTART:20220114T160000Z
DTEND:20220115T010000Z
X-MICROSOFT-CDO-ALLDAYEVENT:FALSE
SUMMARY:2021 CABA Golf Classic @ Cheval
DESCRIPTION:The 2021 CABA Golf Classic is scheduled for January 14th at The Club at Cheval golf course. (Rescheduled from November 2021)\n\n\n\nWe are excited to announce that the Bob Sierra Family YMCA has been selected as our designated non-profit.\n\n\n\nView more information and register here.
X-ALT-DESC;FMTTYPE=text/html:<span style="font-size:18px\;"><span style="color: rgb(34\, 34\, 34)\; font-family: Roboto\, RobotoDraft\, Helvetica\, Arial\, sans-serif\;">The 2021 CABA Golf Classic is scheduled for January 14th at The Club at Cheval golf course. (Rescheduled from November 2021)</span><br style="color: rgb(34\, 34\, 34)\; font-family: Roboto\, RobotoDraft\, Helvetica\, Arial\, sans-serif\; font-size: small\;" />\n<br style="color: rgb(34\, 34\, 34)\; font-family: Roboto\, RobotoDraft\, Helvetica\, Arial\, sans-serif\; font-size: small\;" />\n<span style="color: rgb(34\, 34\, 34)\; font-family: Roboto\, RobotoDraft\, Helvetica\, Arial\, sans-serif\;">We are excited to announce that the Bob Sierra Family YMCA has been selected as our designated non-profit.<br />\n<br />\n<a href="https://usecaba.com/special-events/golf-classic/"><strong>View more information and register here.</strong></a></span></span>
LOCATION:The Club at Cheval 4312 Cheval Blvd Lutz\, FL 33558
UID:e.9368.789226
SEQUENCE:3
DTSTAMP:20260424T054703Z
URL:http://usecabafl.memberzone.com/events/details/2021-caba-golf-classic-cheval-789226
END:VEVENT

END:VCALENDAR
